BEGIN:VCALENDAR
VERSION:2.0
PRODID:-//Squarespace Inc/Squarespace 6//v6//EN
BEGIN:VEVENT
UID:53bd23d9e4b026326f836b4a@squarespace.com
DTSTAMP:20140719T101025Z
DTSTART:20140706T113000Z
DTEND:20140709T123000Z
SUMMARY:Swan Parish Women's Retreat
END:VEVENT
END:VCALENDAR
