BEGIN:VCALENDAR
VERSION:2.0
PRODID:-//Squarespace Inc/Squarespace 6//v6//EN
BEGIN:VEVENT
UID:540ea102e4b0d68e9de20413@squarespace.com
DTSTAMP:20150202T044947Z
DTSTART:20150501T010000Z
DTEND:20150504T090000Z
SUMMARY:Beginning of May Weekend Retreat
END:VEVENT
END:VCALENDAR
