BEGIN:VCALENDAR
VERSION:2.0
PRODID:-//Squarespace Inc/Squarespace 6//v6//EN
BEGIN:VEVENT
UID:540a6f6be4b0a1896f0218f8@squarespace.com
DTSTAMP:20150202T045033Z
DTSTART:20150518T023000Z
DTEND:20150522T033000Z
SUMMARY:From ancient Celtic spirituality to new monastic churches with Ray 
 Simpson
END:VEVENT
END:VCALENDAR
