BEGIN:VCALENDAR
VERSION:2.0
PRODID:-//Squarespace Inc/Squarespace 6//v6//EN
BEGIN:VEVENT
UID:540ea9b6e4b082758f2de820@squarespace.com
DTSTAMP:20150407T091206Z
DTSTART:20150405T073000Z
DTEND:20150410T083000Z
SUMMARY:School Chaplains Retreat
END:VEVENT
END:VCALENDAR
