BEGIN:VCALENDAR
VERSION:2.0
PRODID:-//Squarespace Inc/Squarespace 6//v6//EN
BEGIN:VEVENT
UID:540ea816e4b0c6c8cf30eb67@squarespace.com
DTSTAMP:20150612T063445Z
DTSTART:20150809T073000Z
DTEND:20150814T083000Z
SUMMARY:Clergy Retreat: an annual discipline
END:VEVENT
END:VCALENDAR
