BEGIN:VCALENDAR
VERSION:2.0
PRODID:-//Squarespace Inc/Squarespace 6//v6//EN
BEGIN:VEVENT
UID:540ea56ce4b09b2dbb2e2866@squarespace.com
DTSTAMP:20180516T033244Z
DTSTART:20180921T010000Z
DTEND:20180924T090000Z
SUMMARY:Darlington Parish Weekend Retreat
END:VEVENT
END:VCALENDAR
