BEGIN:VCALENDAR
VERSION:2.0
PRODID:-//Squarespace Inc/Squarespace 6//v6//EN
BEGIN:VEVENT
UID:557a68ffe4b07d1ca22d0803@squarespace.com
DTSTAMP:20161110T060857Z
DTSTART:20180506T053000Z
DTEND:20180511T063000Z
SUMMARY:Desert Spirituality and your life's questions.
END:VEVENT
END:VCALENDAR
