BEGIN:VCALENDAR
VERSION:2.0
PRODID:-//Squarespace Inc/Squarespace 6//v6//EN
BEGIN:VEVENT
UID:5618d6bde4b0beb4166917df@squarespace.com
DTSTAMP:20151103T231207Z
DTSTART:20160702T010000Z
DTEND:20160705T040000Z
SUMMARY:Young Men's Retreat
END:VEVENT
END:VCALENDAR
